BEGIN:VCALENDAR
VERSION:2.0
PRODID:-//Love INC Mahaska County - ECPv6.11.2//NONSGML v1.0//EN
CALSCALE:GREGORIAN
METHOD:PUBLISH
X-WR-CALNAME:Love INC Mahaska County
X-ORIGINAL-URL:https://loveincmahaska.org
X-WR-CALDESC:Events for Love INC Mahaska County
REFRESH-INTERVAL;VALUE=DURATION:PT1H
X-Robots-Tag:noindex
X-PUBLISHED-TTL:PT1H
BEGIN:VTIMEZONE
TZID:America/Detroit
BEGIN:DAYLIGHT
TZOFFSETFROM:-0500
TZOFFSETTO:-0400
TZNAME:EDT
DTSTART:20230312T070000
END:DAYLIGHT
BEGIN:STANDARD
TZOFFSETFROM:-0400
TZOFFSETTO:-0500
TZNAME:EST
DTSTART:20231105T060000
END:STANDARD
END:VTIMEZONE
BEGIN:VTIMEZONE
TZID:UTC
BEGIN:STANDARD
TZOFFSETFROM:+0000
TZOFFSETTO:+0000
TZNAME:UTC
DTSTART:20230101T000000
END:STANDARD
END:VTIMEZONE
BEGIN:VEVENT
DTSTART;TZID=America/Detroit:20231104T090000
DTEND;TZID=America/Detroit:20231104T130000
DTSTAMP:20260425T071849
CREATED:20230320T140550Z
LAST-MODIFIED:20230320T140716Z
UID:1374-1699088400-1699102800@loveincmahaska.org
SUMMARY:Mahaska Connect
DESCRIPTION:More information coming soon
URL:https://loveincmahaska.org/event/mahaska-connect/
ATTACH;FMTTYPE=image/jpeg:https://loveincmahaska.org/wp-content/uploads/2023/03/LoveIncMC_Events_3.jpg
END:VEVENT
BEGIN:VEVENT
DTSTART;TZID=America/Detroit:20230907T180000
DTEND;TZID=America/Detroit:20230907T200000
DTSTAMP:20260425T071849
CREATED:20230320T134653Z
LAST-MODIFIED:20230320T134653Z
UID:1366-1694109600-1694116800@loveincmahaska.org
SUMMARY:Fall Foundations Classes Start
DESCRIPTION:Join us at First Christian Reformed Church. Foundations Classes are 6pm to 8pm with dinner starting at 5:15pm
URL:https://loveincmahaska.org/event/fall-foundations-classes-start/
LOCATION:First Christian Reformed Church\, 815 N. 11th St\, Oskaloosa\, IA\, 52577\, United States
ATTACH;FMTTYPE=image/jpeg:https://loveincmahaska.org/wp-content/uploads/2023/03/LoveIncMC_Events_1.jpg
END:VEVENT
BEGIN:VEVENT
DTSTART;TZID=America/Detroit:20230831T180000
DTEND;TZID=America/Detroit:20230831T184500
DTSTAMP:20260425T071849
CREATED:20230320T140057Z
LAST-MODIFIED:20230320T140730Z
UID:1370-1693504800-1693507500@loveincmahaska.org
SUMMARY:Foundations Fall Session Orientation
DESCRIPTION:More information coming soon
URL:https://loveincmahaska.org/event/foundations-fall-session-orientation/
ATTACH;FMTTYPE=image/jpeg:https://loveincmahaska.org/wp-content/uploads/2023/03/LoveIncMC_Events_2.jpg
END:VEVENT
BEGIN:VEVENT
DTSTART;TZID=UTC:20230331T180000
DTEND;TZID=UTC:20230331T203000
DTSTAMP:20260425T071849
CREATED:20230304T024908Z
LAST-MODIFIED:20230316T214430Z
UID:1033-1680285600-1680294600@loveincmahaska.org
SUMMARY:Love INC Gala - 25th Anniversary
DESCRIPTION:Come join us at the Gala as we celebrate our 25th Anniversary! \nSocial: 6:00pm\nDinner: 6:30pm \nRSVP by March 24 to 641-676-3750 or loveincofmahaskacounty@gmail.com. \nCan’t attend? Please consider a donation. \nRSVP By Email \nRSVP By Phone
URL:https://loveincmahaska.org/event/love-inc-gala-25th-anniversary/
LOCATION:Gateway Nazarene Church\, 140 Gateway Drive\, Oskaloosa\, IA\, 52577\, United States
ATTACH;FMTTYPE=image/jpeg:https://loveincmahaska.org/wp-content/uploads/2023/03/Gala.jpeg
END:VEVENT
END:VCALENDAR