BEGIN:VCALENDAR
VERSION:2.0
PRODID:-//Love INC Mahaska County - ECPv6.11.2//NONSGML v1.0//EN
CALSCALE:GREGORIAN
METHOD:PUBLISH
X-WR-CALNAME:Love INC Mahaska County
X-ORIGINAL-URL:https://loveincmahaska.org
X-WR-CALDESC:Events for Love INC Mahaska County
REFRESH-INTERVAL;VALUE=DURATION:PT1H
X-Robots-Tag:noindex
X-PUBLISHED-TTL:PT1H
BEGIN:VTIMEZONE
TZID:America/Detroit
BEGIN:DAYLIGHT
TZOFFSETFROM:-0500
TZOFFSETTO:-0400
TZNAME:EDT
DTSTART:20230312T070000
END:DAYLIGHT
BEGIN:STANDARD
TZOFFSETFROM:-0400
TZOFFSETTO:-0500
TZNAME:EST
DTSTART:20231105T060000
END:STANDARD
BEGIN:DAYLIGHT
TZOFFSETFROM:-0500
TZOFFSETTO:-0400
TZNAME:EDT
DTSTART:20240310T070000
END:DAYLIGHT
BEGIN:STANDARD
TZOFFSETFROM:-0400
TZOFFSETTO:-0500
TZNAME:EST
DTSTART:20241103T060000
END:STANDARD
BEGIN:DAYLIGHT
TZOFFSETFROM:-0500
TZOFFSETTO:-0400
TZNAME:EDT
DTSTART:20250309T070000
END:DAYLIGHT
BEGIN:STANDARD
TZOFFSETFROM:-0400
TZOFFSETTO:-0500
TZNAME:EST
DTSTART:20251102T060000
END:STANDARD
END:VTIMEZONE
BEGIN:VTIMEZONE
TZID:UTC
BEGIN:STANDARD
TZOFFSETFROM:+0000
TZOFFSETTO:+0000
TZNAME:UTC
DTSTART:20230101T000000
END:STANDARD
END:VTIMEZONE
BEGIN:VEVENT
DTSTART;TZID=America/Detroit:20250426T080000
DTEND;TZID=America/Detroit:20250426T093000
DTSTAMP:20260425T084214
CREATED:20250224T062004Z
LAST-MODIFIED:20250224T062018Z
UID:1543-1745654400-1745659800@loveincmahaska.org
SUMMARY:Volunteer Appreciation
DESCRIPTION:
URL:https://loveincmahaska.org/event/volunteer-appreciation-8-930am-at-bethel-christian-reformed-church/
LOCATION:Bethel Christian Reformed Church
END:VEVENT
BEGIN:VEVENT
DTSTART;VALUE=DATE:20250417
DTEND;VALUE=DATE:20250418
DTSTAMP:20260425T084214
CREATED:20250224T062244Z
LAST-MODIFIED:20250224T062244Z
UID:1549-1744848000-1744934399@loveincmahaska.org
SUMMARY:New Foundations Classes begin
DESCRIPTION:
URL:https://loveincmahaska.org/event/new-foundations-classes-begin/
END:VEVENT
BEGIN:VEVENT
DTSTART;VALUE=DATE:20250410
DTEND;VALUE=DATE:20250411
DTSTAMP:20260425T084214
CREATED:20250224T062143Z
LAST-MODIFIED:20250224T062143Z
UID:1547-1744243200-1744329599@loveincmahaska.org
SUMMARY:Foundations Orientation
DESCRIPTION:Time TBD
URL:https://loveincmahaska.org/event/foundations-orientation/
END:VEVENT
BEGIN:VEVENT
DTSTART;TZID=America/Detroit:20250329T083000
DTEND;TZID=America/Detroit:20250329T123000
DTSTAMP:20260425T084214
CREATED:20250224T061752Z
LAST-MODIFIED:20250314T022532Z
UID:1539-1743237000-1743251400@loveincmahaska.org
SUMMARY:To Love As God Loves Conference
DESCRIPTION:Want to learn to love in a way that transforms lives? Join us for an interactive morning as we explore Compassion with Redemptive Power. \nDoors open at 8am. \nFeaturing Lois Tupyi – Author an nationally-known nonprofit leader \nRSVP by March 25 to events@loveincmahaska.org
URL:https://loveincmahaska.org/event/to-love-as-god-loves-conference/
LOCATION:Gateway Nazarene Church\, 140 Gateway Drive\, Oskaloosa\, IA\, 52577\, United States
ATTACH;FMTTYPE=image/png:https://loveincmahaska.org/wp-content/uploads/2025/02/To-Love-As-God-Loves.png
END:VEVENT
BEGIN:VEVENT
DTSTART;TZID=America/Detroit:20250328T173000
DTEND;TZID=America/Detroit:20250328T203000
DTSTAMP:20260425T084214
CREATED:20250224T060907Z
LAST-MODIFIED:20250224T060907Z
UID:1536-1743183000-1743193800@loveincmahaska.org
SUMMARY:Love INC Mahaska Gala
DESCRIPTION:Keynote Speaker: Lois Tupyi\nAuthor of Redemptive Compassion \nSocial 5:30pm/Dinner 6:00pm \nRSVP by March 21 to events@loveincmahaska.org \nAllergy friendly meal upon request.
URL:https://loveincmahaska.org/event/love-inc-mahaska-gala/
LOCATION:Gateway Nazarene Church\, 140 Gateway Drive\, Oskaloosa\, IA\, 52577\, United States
ATTACH;FMTTYPE=image/jpeg:https://loveincmahaska.org/wp-content/uploads/2025/02/11x8.5-Gala-projection-slide.jpg
END:VEVENT
BEGIN:VEVENT
DTSTART;TZID=America/Detroit:20231104T090000
DTEND;TZID=America/Detroit:20231104T130000
DTSTAMP:20260425T084214
CREATED:20230320T140550Z
LAST-MODIFIED:20230320T140716Z
UID:1374-1699088400-1699102800@loveincmahaska.org
SUMMARY:Mahaska Connect
DESCRIPTION:More information coming soon
URL:https://loveincmahaska.org/event/mahaska-connect/
ATTACH;FMTTYPE=image/jpeg:https://loveincmahaska.org/wp-content/uploads/2023/03/LoveIncMC_Events_3.jpg
END:VEVENT
BEGIN:VEVENT
DTSTART;TZID=America/Detroit:20230907T180000
DTEND;TZID=America/Detroit:20230907T200000
DTSTAMP:20260425T084214
CREATED:20230320T134653Z
LAST-MODIFIED:20230320T134653Z
UID:1366-1694109600-1694116800@loveincmahaska.org
SUMMARY:Fall Foundations Classes Start
DESCRIPTION:Join us at First Christian Reformed Church. Foundations Classes are 6pm to 8pm with dinner starting at 5:15pm
URL:https://loveincmahaska.org/event/fall-foundations-classes-start/
LOCATION:First Christian Reformed Church\, 815 N. 11th St\, Oskaloosa\, IA\, 52577\, United States
ATTACH;FMTTYPE=image/jpeg:https://loveincmahaska.org/wp-content/uploads/2023/03/LoveIncMC_Events_1.jpg
END:VEVENT
BEGIN:VEVENT
DTSTART;TZID=America/Detroit:20230831T180000
DTEND;TZID=America/Detroit:20230831T184500
DTSTAMP:20260425T084214
CREATED:20230320T140057Z
LAST-MODIFIED:20230320T140730Z
UID:1370-1693504800-1693507500@loveincmahaska.org
SUMMARY:Foundations Fall Session Orientation
DESCRIPTION:More information coming soon
URL:https://loveincmahaska.org/event/foundations-fall-session-orientation/
ATTACH;FMTTYPE=image/jpeg:https://loveincmahaska.org/wp-content/uploads/2023/03/LoveIncMC_Events_2.jpg
END:VEVENT
BEGIN:VEVENT
DTSTART;TZID=UTC:20230331T180000
DTEND;TZID=UTC:20230331T203000
DTSTAMP:20260425T084214
CREATED:20230304T024908Z
LAST-MODIFIED:20230316T214430Z
UID:1033-1680285600-1680294600@loveincmahaska.org
SUMMARY:Love INC Gala - 25th Anniversary
DESCRIPTION:Come join us at the Gala as we celebrate our 25th Anniversary! \nSocial: 6:00pm\nDinner: 6:30pm \nRSVP by March 24 to 641-676-3750 or loveincofmahaskacounty@gmail.com. \nCan’t attend? Please consider a donation. \nRSVP By Email \nRSVP By Phone
URL:https://loveincmahaska.org/event/love-inc-gala-25th-anniversary/
LOCATION:Gateway Nazarene Church\, 140 Gateway Drive\, Oskaloosa\, IA\, 52577\, United States
ATTACH;FMTTYPE=image/jpeg:https://loveincmahaska.org/wp-content/uploads/2023/03/Gala.jpeg
END:VEVENT
END:VCALENDAR